BEGIN:VCALENDAR
VERSION:2.0
PRODID:-//Sabre//Sabre VObject 4.1.6//EN
CALSCALE:GREGORIAN
BEGIN:VEVENT
UID:sabre-vobject-e633b429-cae9-4ccf-8211-c989b46f36fe
DTSTAMP:20260419T164229Z
SUMMARY:Hansa lacht - Comedy wie ein Wärmepflaster für die gezerrte Seele
  präsentiert von Björn H. Katzur
DTSTART;TZID=Europe/Berlin:20260418T190000
ORGANIZER;CN=Hansastrasse 48 e.V.:MAILTO:info@hansa48.de
LOCATION:Hansa 48 - Saal\, Hansastraße 48\, Kiel (Ravensberg - Brunswik - 
 Düsternbrook)
GEO:54.3352552;10.1273732
DESCRIPTION:\nAm Dienstag\, dem 13.01. um 19 Uhr präsentiert Björn H. Kat
 zur zum zweiten Mal das neue Stand-Up Open Mic „Han-salacht“. Sechs bi
 s zehn Comedians probieren sich aus\, testen neue Gags oder arbeiten an al
 ten\, kommen zum ersten Mal auf die Bühne\, testen ihr zehntes Bühnenpro
 gramm.\nAlles ist möglich\, Vieles wird lustig.\n\nStand-Up: nur du\, das
  Mikro und deine Geschichten und Jokes\, um das Publikum zum Grölen zu br
 ingen.\n\nEintritt: 10\,-€ / 8\,-€ erm. (VVK auf eventbrite)\nVVK: www
 .eventbrite.de/e/hansalacht-tickets-1922760180459
BEGIN:VALARM
TRIGGER;VALUE=DURATION:P1D
ACTION:DISPLAY
DESCRIPTION:Hansa lacht - Comedy wie ein Wärmepflaster für die gezerrte S
 eele präsentiert von Björn H. Katzur
END:VALARM
END:VEVENT
END:VCALENDAR
