BEGIN:VCALENDAR
VERSION:2.0
PRODID:-//Sabre//Sabre VObject 4.1.6//EN
CALSCALE:GREGORIAN
BEGIN:VEVENT
UID:sabre-vobject-0ccc7c0a-79de-47f1-8a1d-95c90c9bc993
DTSTAMP:20260419T164224Z
SUMMARY:Groovecomplex und Hansa48 präsentieren: ALEX SOLMAN & GEREON KLUG 
 "Stayin Alive" (2025 by DuMont Buchverlag)
DTSTART;TZID=Europe/Berlin:20260415T200000
ORGANIZER;CN=Hansastrasse 48 e.V.:MAILTO:info@hansa48.de
LOCATION:Hansa 48 - Saal\, Hansastraße 48\, Kiel (Ravensberg - Brunswik - 
 Düsternbrook)
GEO:54.3352552;10.1273732
DESCRIPTION:\nEndlich: die finale Lesungs- und Zeichnungsshow zum Thema Tod
 … mit all unseren Lieblingstoten der letzten zehn Jahre! David Bowie\, V
 ivienne Westwood\, Karl Lagerfeld\, Jane Birkin\, Amy Winehouse oder Princ
 e: Sie sind alle dabei im großen Kompendium STAYING ALIVE\, das im Herbst
  2025 bei DuMont erschienen ist.\n\nEinzigartig gezeichnet vom Hamburger S
 trichgenie Alex Solman\, Hauszeichner des Golden Pudel Clubs mit dem unfas
 s-bar versatilen Stil. Humorvoll pointiert und poetisch kommentiert von Ge
 reon Klug – dem einzigen Autor\, den Harry Rowohlt ins Englische überse
 tzte (und nicht umgekehrt!). In der Lesungsshow lernen Sie all diese Mensc
 hen\, die so Großes geleistet haben\, dass sie sich in unser kulturelles 
 Gedächtnis eingebrannt haben\, todsicher neu kennen. Ein Muss für alle 
 Überlebenden!\nEs ging los mit David Bowie und Prince\, dann kamen Aretha
  Franklin und Karl Lagerfeld\, zuletzt Tina Turner und David Lynch: Bedeut
 ende Menschen\, die uns ein Leben lang begleitet haben\, starben plötzlic
 h. Der Hamburger Zeichner Alex Solman widmet diesen Persönlichkeiten aus 
 Kunst\, Musik und Wissenschaft einzigartige Illustrationen. Mal zeichnet e
 r die Verstorbenen mit geraden Linien und trockenem Humor. Mal mit psyched
 elischen Pinselstrichen und ernsthafter Trauer. ›Staying Alive‹ präse
 ntiert 210 Porträts der größten Menschen unserer Zeit\, 80 davon sind v
 on Gereon Klug um pointierte Kurztexte ergänzt.\nEin Buch\, das keine Hom
 mage an die Verstorbenen sein will\, sondern ein Geschenk für die Überle
 benden ist. Und ein Angebot\, das Werk der größten Idole unserer Epoche 
 neu zu erforschen oder überhaupt erst zu entdecken.\n»Diese wunderbare G
 alerie muss ohne mich auskommen – schafft sie mit Bravour! Verdammt gut\
 , dieses Buch!« BELA B\n\n»Das beste Buch\, um sich mal wieder so richti
 g lebendig zu fühlen. Danke!« ELIAS HAUCK\n\n„Der Tod ist nicht das En
 de. Danach kommt Alex Solman.“ SARAH LORENZ\n\nGEREON KLUG ist Autor und
  Songschreiber. Er besaß mehrere Plattenläden sowie ein Musiklabel\, sch
 reibt für DEICH-KIND und arbeitete mit STUDIO BRAUN. Außerdem hat er meh
 rere Bücher veröffentlicht: Kinderbücher\, Kolumnenbü-cher\, sogar ein
  Kochbuch\, das man kochen kann. Er lebt in Hamburg.\nhttps://www.instagra
 m.com/gereonklug\nhttps://www.facebook.com/gereonklug\n\nALEX SOLMAN lebt 
 als freier Künstler in Hamburg und Berlin. Seine Illustrationen sind u. a
 . in DIE ZEIT sowie auf zahlreichen Albumcovern zu sehen. Seit vielen Jahr
 en kümmert er sich um die Bebilderung von Postern und Flyern für den leg
 endären Hamburger Club Golden Pudel.\nhttps://www.instagram.com/alex_solm
 an\nhttps://www.facebook.com/alexsolman23\n\n---\n\nhttps://www.dumont-buc
 hverlag.de/buch/gereon-klug-staying-alive-9783755820178-t-7646\nGroovecomp
 lex\nhttps://www.facebook.com/groovecomplexculture\nhttps://www.instagram.
 com/groovecomplex\n\nIn Zusammenarbeit mit der Hansa48\n\nEintritt: 12\,- 
 VVK (zzgl. Gebühren bei tixforgigs) / 15\,- AK
BEGIN:VALARM
TRIGGER;VALUE=DURATION:P1D
ACTION:DISPLAY
DESCRIPTION:Groovecomplex und Hansa48 präsentieren: ALEX SOLMAN & GEREON K
 LUG "Stayin Alive" (2025 by DuMont Buchverlag)
END:VALARM
END:VEVENT
END:VCALENDAR
