BEGIN:VCALENDAR
VERSION:2.0
PRODID:-//Sabre//Sabre VObject 4.1.6//EN
CALSCALE:GREGORIAN
BEGIN:VEVENT
UID:sabre-vobject-60516d90-59e2-4b83-b13e-53ea37d95cd2
DTSTAMP:20260419T164116Z
SUMMARY:Gottesdienst zum Gründonnerstag mit Tischabendmahl mit Pastorin Sc
 hall und Pastor Anderson
DTSTART;TZID=Europe/Berlin:20260402T180000
ORGANIZER;CN=Ev.-Luth. Kirchengemeinde Schönkirchen:MAILTO:info@kirche-sch
 oenkirchen.de
LOCATION:Paul-Gerhardt-Kirchengemeinde\, Ivensring 9\, Kiel
BEGIN:VALARM
TRIGGER;VALUE=DURATION:P1D
ACTION:DISPLAY
DESCRIPTION:Gottesdienst zum Gründonnerstag mit Tischabendmahl mit Pastori
 n Schall und Pastor Anderson
END:VALARM
END:VEVENT
END:VCALENDAR
