BEGIN:VCALENDAR
VERSION:2.0
PRODID:-//Sabre//Sabre VObject 4.1.6//EN
CALSCALE:GREGORIAN
BEGIN:VEVENT
UID:sabre-vobject-dc40f644-dedb-4cc7-b58d-dd582ef0896f
DTSTAMP:20260419T162154Z
SUMMARY:Gottesdienst Russee
DTSTART;TZID=Europe/Berlin:20260403T100000
ORGANIZER;CN=Ev.-Luth. Claus-Harms-Kirchengemeinde Kiel:MAILTO:kirchenbuero
 @claus-harms.de
LOCATION:St. Gabriel Kirche\, Rendsburger Landstraße 389\, Kiel
GEO:54.30077;10.06608
BEGIN:VALARM
TRIGGER;VALUE=DURATION:P1D
ACTION:DISPLAY
DESCRIPTION:Gottesdienst Russee
END:VALARM
END:VEVENT
END:VCALENDAR
