BEGIN:VCALENDAR
VERSION:2.0
PRODID:-//Sabre//Sabre VObject 4.1.6//EN
CALSCALE:GREGORIAN
BEGIN:VEVENT
UID:sabre-vobject-be8dd8d8-34ec-46db-a48c-11cf3dcb1f15
DTSTAMP:20260419T162414Z
SUMMARY:Gottesdienst - Quasimodogeniti
DTSTART;TZID=Europe/Berlin:20260412T100000
ORGANIZER;CN=Ev.-Luth. Kirchengemeinde St. Nikolai zu Kiel:MAILTO:gemeindeb
 uero@st-nikolai-kiel.de
LOCATION:Offene Kirche St. Nikolai in Kiel\, Alter Markt\, Kiel
GEO:54.323221;10.138686
BEGIN:VALARM
TRIGGER;VALUE=DURATION:P1D
ACTION:DISPLAY
DESCRIPTION:Gottesdienst - Quasimodogeniti
END:VALARM
END:VEVENT
END:VCALENDAR
