BEGIN:VCALENDAR
VERSION:2.0
PRODID:-//Sabre//Sabre VObject 4.1.6//EN
CALSCALE:GREGORIAN
BEGIN:VEVENT
UID:sabre-vobject-cc5ea990-174c-42dc-9037-5f56aa16ea3d
DTSTAMP:20260419T162301Z
SUMMARY:Gottesdienst\, Pastor Schwabe
DTSTART;TZID=Europe/Berlin:20260412T103000
ORGANIZER;CN=Ev.-Luth. Emmaus-Kirchengemeinde Kiel:MAILTO:kirchenbuero@emma
 us-kiel.de
LOCATION:Emmaus-Kirchengemeinde\, Charles-Roß-Ring 118\, Kiel
GEO:54.3579696;10.1097121
BEGIN:VALARM
TRIGGER;VALUE=DURATION:P1D
ACTION:DISPLAY
DESCRIPTION:Gottesdienst\, Pastor Schwabe
END:VALARM
END:VEVENT
END:VCALENDAR
