BEGIN:VCALENDAR
VERSION:2.0
PRODID:-//Sabre//Sabre VObject 4.1.6//EN
CALSCALE:GREGORIAN
BEGIN:VEVENT
UID:sabre-vobject-a5e05069-7ecf-4c68-b4ec-dd6bf34984bd
DTSTAMP:20260419T162257Z
SUMMARY:Gottesdienst - Ostersonntag
DTSTART;TZID=Europe/Berlin:20260405T100000
ORGANIZER;CN=Ev.-Luth. Kirchengemeinde St. Nikolai zu Kiel:MAILTO:gemeindeb
 uero@st-nikolai-kiel.de
LOCATION:Offene Kirche St. Nikolai in Kiel\, Alter Markt\, Kiel
GEO:54.323221;10.138686
DESCRIPTION:\nmit Abendmahl„Auf\, auf\, mein Herz\, mit Freuden“Themeng
 ottesdienst zum 350. Todestag von Paul Gerhardt
BEGIN:VALARM
TRIGGER;VALUE=DURATION:P1D
ACTION:DISPLAY
DESCRIPTION:Gottesdienst - Ostersonntag
END:VALARM
END:VEVENT
END:VCALENDAR
