BEGIN:VCALENDAR
VERSION:2.0
PRODID:-//Sabre//Sabre VObject 4.1.6//EN
CALSCALE:GREGORIAN
BEGIN:VEVENT
UID:sabre-vobject-b7ed37f8-b9f3-4e5d-920a-3767943dcae6
DTSTAMP:20260419T162257Z
SUMMARY:Gottesdienst - Ostermontag
DTSTART;TZID=Europe/Berlin:20260406T100000
ORGANIZER;CN=Ev.-Luth. Kirchengemeinde St. Nikolai zu Kiel:MAILTO:gemeindeb
 uero@st-nikolai-kiel.de
LOCATION:Offene Kirche St. Nikolai in Kiel\, Alter Markt\, Kiel
GEO:54.323221;10.138686
DESCRIPTION:\nmit dem SanktNikolaiChorJ. Kuhnau: Kantate „Christ lag in T
 odesbanden“ u.a.
BEGIN:VALARM
TRIGGER;VALUE=DURATION:P1D
ACTION:DISPLAY
DESCRIPTION:Gottesdienst - Ostermontag
END:VALARM
END:VEVENT
END:VCALENDAR
