BEGIN:VCALENDAR
VERSION:2.0
PRODID:-//Sabre//Sabre VObject 4.1.6//EN
CALSCALE:GREGORIAN
BEGIN:VEVENT
UID:sabre-vobject-3ef64ac6-d193-4380-822b-3e81b7262456
DTSTAMP:20260419T162613Z
SUMMARY:Gottesdienst ohne Predigt zum Karfreitag
DTSTART;TZID=Europe/Berlin:20260403T100000
ORGANIZER;CN=Ev.-Luth. Andreas-Kirchengemeinde Kiel-Wellingdorf:MAILTO:buer
 o@andreasgemeinde-wellingdorf.de
LOCATION:Andreaskirche Kiel-Wellingdorf\, Wischhofstraße 69\, Kiel
GEO:54.325035;10.18193
BEGIN:VALARM
TRIGGER;VALUE=DURATION:P1D
ACTION:DISPLAY
DESCRIPTION:Gottesdienst ohne Predigt zum Karfreitag
END:VALARM
END:VEVENT
END:VCALENDAR
