BEGIN:VCALENDAR
VERSION:2.0
PRODID:-//Sabre//Sabre VObject 4.1.6//EN
CALSCALE:GREGORIAN
BEGIN:VEVENT
UID:sabre-vobject-47f21743-6756-49f6-8dc1-007aecbfaa64
DTSTAMP:20260419T162608Z
SUMMARY:Gottesdienst mit Tischabendmahl mit Jannes Horstmann
DTSTART;TZID=Europe/Berlin:20260402T180000
ORGANIZER;CN=Ev.-Luth. Emmaus-Kirchengemeinde Kiel:MAILTO:kirchenbuero@emma
 us-kiel.de
LOCATION:Emmaus-Kirchengemeinde\, Charles-Roß-Ring 118\, Kiel
GEO:54.3579696;10.1097121
BEGIN:VALARM
TRIGGER;VALUE=DURATION:P1D
ACTION:DISPLAY
DESCRIPTION:Gottesdienst mit Tischabendmahl mit Jannes Horstmann
END:VALARM
END:VEVENT
END:VCALENDAR
