BEGIN:VCALENDAR
VERSION:2.0
PRODID:-//Sabre//Sabre VObject 4.1.6//EN
CALSCALE:GREGORIAN
BEGIN:VEVENT
UID:sabre-vobject-090755e5-6d61-4c2c-96e7-5692dad9c39a
DTSTAMP:20260419T162248Z
SUMMARY:Gottesdienst mit Pastor Thomas Schaack
DTSTART;TZID=Europe/Berlin:20260412T110000
ORGANIZER;CN=Ev.-Luth. Matthias-Claudius-Kirchengemeinde Kiel-Suchsdorf:MAI
 LTO:buero@kirche-suchsdorf.de
LOCATION:Matthias-Claudius-Kirchengemeinde Kiel-Suchsdorf\, Alte Dorfstrass
 e 53\, Kiel
GEO:54.3605326;10.0840346
BEGIN:VALARM
TRIGGER;VALUE=DURATION:P1D
ACTION:DISPLAY
DESCRIPTION:Gottesdienst mit Pastor Thomas Schaack
END:VALARM
END:VEVENT
END:VCALENDAR
