BEGIN:VCALENDAR
VERSION:2.0
PRODID:-//Sabre//Sabre VObject 4.1.6//EN
CALSCALE:GREGORIAN
BEGIN:VEVENT
UID:sabre-vobject-7bbb1996-3f88-46cb-8aba-8e95ab09d8ae
DTSTAMP:20260419T162614Z
SUMMARY:Gottesdienst mit KirchenKaffee und Foodsavern
DTSTART;TZID=Europe/Berlin:20260412T110000
ORGANIZER;CN=Ev.-Luth. Kirchengemeinde Jakobi Kiel:MAILTO:gemeindebuero@jak
 obi-kiel.de
LOCATION:Jakobikirche Kiel\, Knooper Weg 12-16\, Kiel
GEO:54.326769;10.127878
BEGIN:VALARM
TRIGGER;VALUE=DURATION:P1D
ACTION:DISPLAY
DESCRIPTION:Gottesdienst mit KirchenKaffee und Foodsavern
END:VALARM
END:VEVENT
END:VCALENDAR
