BEGIN:VCALENDAR
VERSION:2.0
PRODID:-//Sabre//Sabre VObject 4.1.6//EN
CALSCALE:GREGORIAN
BEGIN:VEVENT
UID:sabre-vobject-d4f360f0-6879-461e-9bde-c961ada56fde
DTSTAMP:20260419T162445Z
SUMMARY:Gottesdienst mit anschließendem Bücherflohmarkt
DTSTART;TZID=Europe/Berlin:20260419T100000
ORGANIZER;CN=Ev.-Luth. Friedensgemeinde Kiel:MAILTO:info@fg-kiel.de
LOCATION:Vicelinkirche (Friedensgemeinde Kiel)\, Harmsstraße 123\, Kiel
GEO:54.320287;10.116556
BEGIN:VALARM
TRIGGER;VALUE=DURATION:P1D
ACTION:DISPLAY
DESCRIPTION:Gottesdienst mit anschließendem Bücherflohmarkt
END:VALARM
END:VEVENT
END:VCALENDAR
