BEGIN:VCALENDAR
VERSION:2.0
PRODID:-//Sabre//Sabre VObject 4.1.6//EN
CALSCALE:GREGORIAN
BEGIN:VEVENT
UID:sabre-vobject-c502a4f7-75ac-4835-bb4d-f13dd30c5264
DTSTAMP:20260419T162607Z
SUMMARY:Gottesdienst mit Abendmahl zum Ostersonntag
DTSTART;TZID=Europe/Berlin:20260405T100000
ORGANIZER;CN=Ev.-Luth. Andreas-Kirchengemeinde Kiel-Wellingdorf:MAILTO:buer
 o@andreasgemeinde-wellingdorf.de
LOCATION:Andreaskirche Kiel-Wellingdorf\, Wischhofstraße 69\, Kiel
GEO:54.325035;10.18193
BEGIN:VALARM
TRIGGER;VALUE=DURATION:P1D
ACTION:DISPLAY
DESCRIPTION:Gottesdienst mit Abendmahl zum Ostersonntag
END:VALARM
END:VEVENT
END:VCALENDAR
