BEGIN:VCALENDAR
VERSION:2.0
PRODID:-//Sabre//Sabre VObject 4.1.6//EN
CALSCALE:GREGORIAN
BEGIN:VEVENT
UID:sabre-vobject-7bdd48d0-701a-4215-a92e-306c98b397c0
DTSTAMP:20260419T162613Z
SUMMARY:Gottesdienst mit Abendmahl zum Ostermontag
DTSTART;TZID=Europe/Berlin:20260406T100000
ORGANIZER;CN=Ev.-Luth. Andreas-Kirchengemeinde Kiel-Wellingdorf:MAILTO:buer
 o@andreasgemeinde-wellingdorf.de
LOCATION:Andreaskirche Kiel-Wellingdorf\, Wischhofstraße 69\, Kiel
GEO:54.325035;10.18193
BEGIN:VALARM
TRIGGER;VALUE=DURATION:P1D
ACTION:DISPLAY
DESCRIPTION:Gottesdienst mit Abendmahl zum Ostermontag
END:VALARM
END:VEVENT
END:VCALENDAR
