BEGIN:VCALENDAR
VERSION:2.0
PRODID:-//Sabre//Sabre VObject 4.1.6//EN
CALSCALE:GREGORIAN
BEGIN:VEVENT
UID:sabre-vobject-897226bb-0175-4dbd-9c41-e4c7e2c1a579
DTSTAMP:20260419T162154Z
SUMMARY:Gottesdienst mit Abendmahl
DTSTART;TZID=Europe/Berlin:20260419T100000
ORGANIZER;CN=Ev.-Luth. Claus-Harms-Kirchengemeinde Kiel:MAILTO:kirchenbuero
 @claus-harms.de
LOCATION:St. Gabriel Kirche\, Rendsburger Landstraße 389\, Kiel
GEO:54.30077;10.06608
BEGIN:VALARM
TRIGGER;VALUE=DURATION:P1D
ACTION:DISPLAY
DESCRIPTION:Gottesdienst mit Abendmahl
END:VALARM
END:VEVENT
END:VCALENDAR
