BEGIN:VCALENDAR
VERSION:2.0
PRODID:-//Sabre//Sabre VObject 4.1.6//EN
CALSCALE:GREGORIAN
BEGIN:VEVENT
UID:sabre-vobject-5193097d-ccbf-4e10-a13d-5ed86bd2f066
DTSTAMP:20260419T162542Z
SUMMARY:Gottesdienst - Miserikordias Domini
DTSTART;TZID=Europe/Berlin:20260419T100000
ORGANIZER;CN=Ev.-Luth. Kirchengemeinde St. Nikolai zu Kiel:MAILTO:gemeindeb
 uero@st-nikolai-kiel.de
LOCATION:Offene Kirche St. Nikolai in Kiel\, Alter Markt\, Kiel
GEO:54.323221;10.138686
DESCRIPTION:Hoffnung für Judas!?\nGottesdienst mit Texten von Lot Vekemans
 \nSeit zwei Jahrtausenden steht sein Name für den ultimativen Verrat. Doc
 h was wäre aus dem Christentum geworden\, hätte es diesen Kuss im Garten
  Gethsemane nicht gegeben?In diesem Gottesdienst lassen wir die Perspektiv
 e des Mannes zu Wort kommen\, der über Jahrhunderte zum Inbegriff des Bö
 sen stilisiert wurde. Basierend auf dem eindringlichen Monolog der niederl
 ändischen Autorin Lot Vekemans begegnen wir einem Judas\, der mit sich\, 
 seinem Gott und seiner Tat ringt und uns einen neuen Blick auf die Geschic
 hte und vielleicht auch auf uns selbst ermöglicht.
BEGIN:VALARM
TRIGGER;VALUE=DURATION:P1D
ACTION:DISPLAY
DESCRIPTION:Gottesdienst - Miserikordias Domini
END:VALARM
END:VEVENT
END:VCALENDAR
