BEGIN:VCALENDAR
VERSION:2.0
PRODID:-//Sabre//Sabre VObject 4.1.6//EN
CALSCALE:GREGORIAN
BEGIN:VEVENT
UID:sabre-vobject-26a46510-f1a9-4e82-bda7-3b3f62d2775a
DTSTAMP:20260419T162152Z
SUMMARY:Gottesdienst - Jubilate
DTSTART;TZID=Europe/Berlin:20260426T100000
ORGANIZER;CN=Ev.-Luth. Kirchengemeinde St. Nikolai zu Kiel:MAILTO:gemeindeb
 uero@st-nikolai-kiel.de
LOCATION:Offene Kirche St. Nikolai in Kiel\, Alter Markt\, Kiel
GEO:54.323221;10.138686
DESCRIPTION:\nmit dem Kieler Knabenchor
BEGIN:VALARM
TRIGGER;VALUE=DURATION:P1D
ACTION:DISPLAY
DESCRIPTION:Gottesdienst - Jubilate
END:VALARM
END:VEVENT
END:VCALENDAR
