BEGIN:VCALENDAR
VERSION:2.0
PRODID:-//Sabre//Sabre VObject 4.1.6//EN
CALSCALE:GREGORIAN
BEGIN:VEVENT
UID:sabre-vobject-f64aeaa1-90bb-4454-902d-f54dca23eeaf
DTSTAMP:20260419T162613Z
SUMMARY:Gottesdienst im Anschluss Gemeindeversammlung und Ehrenamtsfest
DTSTART;TZID=Europe/Berlin:20260426T100000
ORGANIZER;CN=Ev.-Luth. Kompass-Kirchengemeinde:MAILTO:kontakt@kompass-kirch
 e.de
LOCATION:Kompassgemeinde Kirche "Zum guten Hirten" Pries\, Friedrichsorter 
 Straße 22\, Kiel
GEO:54.397879;10.171529
DESCRIPTION:Gottesdienst im Anschluss Gemeindeversammlung und Ehrenamtsfest
 \nIm Anschluss findet nach kurzer Pause die Gemeindeversammlung statt\, ge
 fogt vom Ehrenamtsfest
BEGIN:VALARM
TRIGGER;VALUE=DURATION:P1D
ACTION:DISPLAY
DESCRIPTION:Gottesdienst im Anschluss Gemeindeversammlung und Ehrenamtsfest
END:VALARM
END:VEVENT
END:VCALENDAR
