BEGIN:VCALENDAR
VERSION:2.0
PRODID:-//Sabre//Sabre VObject 4.1.6//EN
CALSCALE:GREGORIAN
BEGIN:VEVENT
UID:sabre-vobject-12e37f57-9527-4bd1-a572-720caa2ff87a
DTSTAMP:20260419T162413Z
SUMMARY:Gottesdienst Hasseldieksdamm
DTSTART;TZID=Europe/Berlin:20260426T100000
ORGANIZER;CN=Ev.-Luth. Claus-Harms-Kirchengemeinde Kiel:MAILTO:kirchenbuero
 @claus-harms.de
LOCATION:Erlöserkirche Hasseldieksdamm\, Am Wohld 6\, Kiel
GEO:54.31956;10.0708
BEGIN:VALARM
TRIGGER;VALUE=DURATION:P1D
ACTION:DISPLAY
DESCRIPTION:Gottesdienst Hasseldieksdamm
END:VALARM
END:VEVENT
END:VCALENDAR
