BEGIN:VCALENDAR
VERSION:2.0
PRODID:-//Sabre//Sabre VObject 4.1.6//EN
CALSCALE:GREGORIAN
BEGIN:VEVENT
UID:sabre-vobject-a18fc805-5125-4032-84df-5005fb61a8af
DTSTAMP:20260419T162152Z
SUMMARY:Gottesdienst an Ostersonntag
DTSTART;TZID=Europe/Berlin:20260405T100000
ORGANIZER;CN=Ev.-Luth. Kompass-Kirchengemeinde:MAILTO:kontakt@kompass-kirch
 e.de
LOCATION:Kompassgemeinde Dankeskirche Holtenau\, Grimmstraße 39\, Kiel
GEO:54.371179;10.148075
DESCRIPTION:Gottesdienst an Ostersonntag
BEGIN:VALARM
TRIGGER;VALUE=DURATION:P1D
ACTION:DISPLAY
DESCRIPTION:Gottesdienst an Ostersonntag
END:VALARM
END:VEVENT
END:VCALENDAR
