BEGIN:VCALENDAR
VERSION:2.0
PRODID:-//Sabre//Sabre VObject 4.1.6//EN
CALSCALE:GREGORIAN
BEGIN:VEVENT
UID:sabre-vobject-19ec3efa-caf6-461c-b5a9-7fcf2bd25b68
DTSTAMP:20260419T162615Z
SUMMARY:Gottesdienst an Ostermontag mit Stifter Kantorei
DTSTART;TZID=Europe/Berlin:20260406T100000
ORGANIZER;CN=Ev.-Luth. Kompass-Kirchengemeinde:MAILTO:kontakt@kompass-kirch
 e.de
LOCATION:Kompassgemeinde Kirche "Zum guten Hirten" Pries\, Friedrichsorter 
 Straße 22\, Kiel
GEO:54.397879;10.171529
DESCRIPTION:Gottesdienst an Ostermontag mit Stifter Kantorei
BEGIN:VALARM
TRIGGER;VALUE=DURATION:P1D
ACTION:DISPLAY
DESCRIPTION:Gottesdienst an Ostermontag mit Stifter Kantorei
END:VALARM
END:VEVENT
END:VCALENDAR
