BEGIN:VCALENDAR
VERSION:2.0
PRODID:-//Sabre//Sabre VObject 4.1.6//EN
CALSCALE:GREGORIAN
BEGIN:VEVENT
UID:sabre-vobject-902fee07-adfa-47df-a78e-323d70e80445
DTSTAMP:20260419T162412Z
SUMMARY:Gottesdienst an Karfreitag
DTSTART;TZID=Europe/Berlin:20260403T100000
ORGANIZER;CN=Ev.-Luth. Kompass-Kirchengemeinde:MAILTO:kontakt@kompass-kirch
 e.de
LOCATION:Kompassgemeinde Kirche "Zum guten Hirten" Pries\, Friedrichsorter 
 Straße 22\, Kiel
GEO:54.397879;10.171529
DESCRIPTION:Gottesdienst an Karfreitag
BEGIN:VALARM
TRIGGER;VALUE=DURATION:P1D
ACTION:DISPLAY
DESCRIPTION:Gottesdienst an Karfreitag
END:VALARM
END:VEVENT
END:VCALENDAR
