BEGIN:VCALENDAR
VERSION:2.0
PRODID:-//Sabre//Sabre VObject 4.1.6//EN
CALSCALE:GREGORIAN
BEGIN:VEVENT
UID:sabre-vobject-bccc0d2c-4406-4674-8c25-2f3bcc1abe5a
DTSTAMP:20260419T162705Z
SUMMARY:Gottesdienst am Ostermontag mit Diakon Christoph Schröder-Walkenho
 rst
DTSTART;TZID=Europe/Berlin:20260406T110000
ORGANIZER;CN=Ev.-Luth. Matthias-Claudius-Kirchengemeinde Kiel-Suchsdorf:MAI
 LTO:buero@kirche-suchsdorf.de
LOCATION:Matthias-Claudius-Kirchengemeinde Kiel-Suchsdorf\, Alte Dorfstrass
 e 53\, Kiel
GEO:54.3605326;10.0840346
DESCRIPTION:Der Vorhang geht auf – ein Mensch!\n\nHinter dem Vorhang erke
 nnt der Lieddichter Paul Gerhard\, was der Mensch braucht. Wir gehen auf S
 purensuche nach Hoffnung und Zuversicht.\n\nEin Gottesdienst für alle Gen
 erationen....\nDer Vorhang geht auf – ein Mensch! Hinter dem Vorhang erk
 ennt der Lieddichter Paul Gerhard\, was der Mensch braucht. Wir gehen auf 
 Spurensuche nach Hoffnung und Zuversicht. Ein Gottesdienst für alle Gener
 ationen. Im Anschluss suchen wir Ostereier!
BEGIN:VALARM
TRIGGER;VALUE=DURATION:P1D
ACTION:DISPLAY
DESCRIPTION:Gottesdienst am Ostermontag mit Diakon Christoph Schröder-Walk
 enhorst
END:VALARM
END:VEVENT
END:VCALENDAR
