BEGIN:VCALENDAR
VERSION:2.0
PRODID:-//Sabre//Sabre VObject 4.1.6//EN
CALSCALE:GREGORIAN
BEGIN:VEVENT
UID:sabre-vobject-1236a673-8202-49e9-b0e8-0cf854c8b5c5
DTSTAMP:20260419T162614Z
SUMMARY:Gottesdienst am Nordfriedhof\, Pastor Horstmann
DTSTART;TZID=Europe/Berlin:20260405T060000
ORGANIZER;CN=Ev.-Luth. Emmaus-Kirchengemeinde Kiel:MAILTO:kirchenbuero@emma
 us-kiel.de
LOCATION:Nordfriedhof\, Westring 481\, Kiel
GEO:54.3451884;10.1274874
BEGIN:VALARM
TRIGGER;VALUE=DURATION:P1D
ACTION:DISPLAY
DESCRIPTION:Gottesdienst am Nordfriedhof\, Pastor Horstmann
END:VALARM
END:VEVENT
END:VCALENDAR
