BEGIN:VCALENDAR
VERSION:2.0
PRODID:-//Sabre//Sabre VObject 4.1.6//EN
CALSCALE:GREGORIAN
BEGIN:VEVENT
UID:sabre-vobject-ab26817a-2ffb-4221-8c01-24abd837af71
DTSTAMP:20260419T164101Z
SUMMARY:Gottesdienst am Karfreitag mit Kreuzweg in der Kirche mit Pastorin 
 Marion Hild und Sabine Krause
DTSTART;TZID=Europe/Berlin:20260403T110000
ORGANIZER;CN=Ev.-Luth. Matthias-Claudius-Kirchengemeinde Kiel-Suchsdorf:MAI
 LTO:buero@kirche-suchsdorf.de
LOCATION:Matthias-Claudius-Kirchengemeinde Kiel-Suchsdorf\, Alte Dorfstrass
 e 53\, Kiel
GEO:54.3605326;10.0840346
DESCRIPTION:Am Karfreitag denken wir an das Leiden und Sterben Jesu Christi
 . Er ist einen schweren Weg bis zum Kreuz gegangen\, um den Tod zu überwi
 nden.\nEiner alten Tradition folgend gehen auch wir einen Weg\, einen...\n
 Am Karfreitag denken wir an das Leiden und Sterben Jesu Christi. Er ist ei
 nen schweren Weg bis zum Kreuz gegangen\, um den Tod zu überwinden. Einer
  alten Tradition folgend gehen auch wir einen Weg\, einen Kreuzweg. In die
 sem Jahr integrieren wir den Kreuzweg wieder in den Gottesdienst und gehen
  im Gemeindezentrum von Station zu Station. Wir hören die Leidensgeschich
 te\, beten und singen. Der Weg zum Kreuz\, den Jesus Christus gegangen ist
 \, erinnert uns daran\, dass Gott unsere Wege mitgeht\, auch und gerade in
  den schwersten Zeiten.
BEGIN:VALARM
TRIGGER;VALUE=DURATION:P1D
ACTION:DISPLAY
DESCRIPTION:Gottesdienst am Karfreitag mit Kreuzweg in der Kirche mit Pasto
 rin Marion Hild und Sabine Krause
END:VALARM
END:VEVENT
END:VCALENDAR
