BEGIN:VCALENDAR
VERSION:2.0
PRODID:-//Sabre//Sabre VObject 4.1.6//EN
CALSCALE:GREGORIAN
BEGIN:VEVENT
UID:sabre-vobject-9436bf1c-74ba-4317-8a83-25a3acf03374
DTSTAMP:20260419T163857Z
SUMMARY:Gottesdienst am Gründonnerstag mit Feierabendmahl mit Prädikantin
  Renate Liebers und dem Oster-Projektchor
DTSTART;TZID=Europe/Berlin:20260402T180000
ORGANIZER;CN=Ev.-Luth. Matthias-Claudius-Kirchengemeinde Kiel-Suchsdorf:MAI
 LTO:buero@kirche-suchsdorf.de
LOCATION:Matthias-Claudius-Kirchengemeinde Kiel-Suchsdorf\, Alte Dorfstrass
 e 53\, Kiel
GEO:54.3605326;10.0840346
DESCRIPTION:Am Gründonnerstag feiern wir einen Gottesdienst mit Abendmahl 
 an Tischen. Festlich wollen wir diesen Abend begehen und an das letzte Abe
 ndmahl Jesu mit seinen Jüngern und Jüngerinnen denken.\nWir werden...\nA
 m Gründonnerstag feiern wir einen Gottesdienst mit Abendmahl an Tischen. 
 Festlich wollen wir diesen Abend begehen und an das letzte Abendmahl Jesu 
 mit seinen Jüngern und Jüngerinnen denken. Wir werden miteinander singen
 \, beten und essen. Wir freuen uns\, wenn alle eine Kleinigkeit für das M
 ahl mitbringen – am besten Fingerfood. Der Projektchor mit Tim Eggers wi
 rd schon eine Auswahl des Programms für uns singen.
BEGIN:VALARM
TRIGGER;VALUE=DURATION:P1D
ACTION:DISPLAY
DESCRIPTION:Gottesdienst am Gründonnerstag mit Feierabendmahl mit Prädika
 ntin Renate Liebers und dem Oster-Projektchor
END:VALARM
END:VEVENT
END:VCALENDAR
