BEGIN:VCALENDAR
VERSION:2.0
PRODID:-//Sabre//Sabre VObject 4.1.6//EN
CALSCALE:GREGORIAN
BEGIN:VEVENT
UID:sabre-vobject-92b3ecac-7596-46f8-9472-eee424f58cbe
DTSTAMP:20260419T161828Z
SUMMARY:Gottesdienst
DTSTART;TZID=Europe/Berlin:20260426T100000
ORGANIZER;CN=Ev.-Luth. Andreas-Kirchengemeinde Kiel-Wellingdorf:MAILTO:buer
 o@andreasgemeinde-wellingdorf.de
LOCATION:Andreaskirche Kiel-Wellingdorf\, Wischhofstraße 69\, Kiel
GEO:54.325035;10.18193
BEGIN:VALARM
TRIGGER;VALUE=DURATION:P1D
ACTION:DISPLAY
DESCRIPTION:Gottesdienst
END:VALARM
END:VEVENT
END:VCALENDAR
