BEGIN:VCALENDAR
VERSION:2.0
PRODID:-//Sabre//Sabre VObject 4.1.6//EN
CALSCALE:GREGORIAN
BEGIN:VEVENT
UID:sabre-vobject-dedae8e2-e32e-4edf-bd8c-7ff6f90830d3
DTSTAMP:20260419T161829Z
SUMMARY:Gottesdienst
DTSTART;TZID=Europe/Berlin:20260419T093000
ORGANIZER;CN=Ev.-Luth. Bugenhagen-Kirchengemeinde Kiel-Ellerbek:MAILTO:buer
 o@bugenhagenkirche-kiel.de
LOCATION:Bugenhagenkirche Kiel-Ellerbek\, Lütjenburger Str. 7\, Kiel
GEO:54.31425;10.17279
BEGIN:VALARM
TRIGGER;VALUE=DURATION:P1D
ACTION:DISPLAY
DESCRIPTION:Gottesdienst
END:VALARM
END:VEVENT
END:VCALENDAR
