BEGIN:VCALENDAR
VERSION:2.0
PRODID:-//Sabre//Sabre VObject 4.1.6//EN
CALSCALE:GREGORIAN
BEGIN:VEVENT
UID:sabre-vobject-ff4fbe49-1460-470c-acdd-d735db18366c
DTSTAMP:20260419T161805Z
SUMMARY:Gottesdienst
DTSTART;TZID=Europe/Berlin:20260419T100000
ORGANIZER;CN=Ev.-Luth. Michaelis-Kirchengemeinde Kiel:MAILTO:info@michaelis
 kirche-kiel.de
LOCATION:Michaeliskirche Kiel\, Wulfsbrook 29\, Kiel
GEO:54.303489;10.109249
DESCRIPTION:Gottestdienst mit Eröffnung der Ausstellung "Trotz-Kraft ? Bib
 le Art". Mit Pastorin Schlott und Friederike Held.\nZur Ausstellungseröff
 nung:Die im Bible-Art-Projekt entstandenen Kustwerke werden ab dem 19. Apr
 il im Kirchraum zu sehen sein und im Laufe der Ausstellung immer wieder we
 chseln. Wir freuen uns auf Inspiration und Austausch.
BEGIN:VALARM
TRIGGER;VALUE=DURATION:P1D
ACTION:DISPLAY
DESCRIPTION:Gottesdienst
END:VALARM
END:VEVENT
END:VCALENDAR
