BEGIN:VCALENDAR
VERSION:2.0
PRODID:-//Sabre//Sabre VObject 4.1.6//EN
CALSCALE:GREGORIAN
BEGIN:VEVENT
UID:sabre-vobject-6a2aafb4-8489-40e0-b7f9-2df04e62ef7f
DTSTAMP:20260419T161803Z
SUMMARY:Gottesdienst
DTSTART;TZID=Europe/Berlin:20260412T100000
ORGANIZER;CN=Ev.-Luth. Michaelis-Kirchengemeinde Kiel:MAILTO:info@michaelis
 kirche-kiel.de
LOCATION:Michaeliskirche Kiel\, Wulfsbrook 29\, Kiel
GEO:54.303489;10.109249
DESCRIPTION:Gottesdienst mit Pastorin Sengstock und Stud. theol. Melissa J.
  Peters.
BEGIN:VALARM
TRIGGER;VALUE=DURATION:P1D
ACTION:DISPLAY
DESCRIPTION:Gottesdienst
END:VALARM
END:VEVENT
END:VCALENDAR
