BEGIN:VCALENDAR
VERSION:2.0
PRODID:-//Sabre//Sabre VObject 4.1.6//EN
CALSCALE:GREGORIAN
BEGIN:VEVENT
UID:sabre-vobject-3299f247-a9bf-41a0-851b-c1cd6c916822
DTSTAMP:20260419T161647Z
SUMMARY:Gottesdienst
DTSTART;TZID=Europe/Berlin:20260402T180000
ORGANIZER;CN=Ev.-Luth. Michaelis-Kirchengemeinde Kiel:MAILTO:info@michaelis
 kirche-kiel.de
LOCATION:Michaeliskirche Kiel\, Wulfsbrook 29\, Kiel
GEO:54.303489;10.109249
DESCRIPTION:Pastorin Schlott feiert den Gottestdienst am Gründonnerstag mi
 t Gebet\, Musik und Abendmahl im Rahmen eines gemeinsamen Essens.\nEin let
 ztes Mal isst Jesus gemeinsam mit seinen Jünger*innen. Sie sind zusammen\
 , reden\, hören zu\, teilen miteinander Brot und Wein. Daran erinnern wir
  uns\, wenn wir auch in unserer Zeit miteinander das Abendmahl feiern. Dar
 an erinnern wir uns besonders an diesem Abend.Wir feiern am 2. April um 18
  Uhr einen Gottesdienst mit Gebet und Musik\, wir feiern Abendmahl im Rahm
 en eines gemeinsamen Essens. Pastorin Schlott freut sich auf Sie.
BEGIN:VALARM
TRIGGER;VALUE=DURATION:P1D
ACTION:DISPLAY
DESCRIPTION:Gottesdienst
END:VALARM
END:VEVENT
END:VCALENDAR
