BEGIN:VCALENDAR
VERSION:2.0
PRODID:-//Sabre//Sabre VObject 4.1.6//EN
CALSCALE:GREGORIAN
BEGIN:VEVENT
UID:sabre-vobject-77fb9927-5b64-4066-b92c-e021ddd78290
DTSTAMP:20260419T161756Z
SUMMARY:Gottesdienst
DTSTART;TZID=Europe/Berlin:20260412T110000
ORGANIZER;CN=Ev.-Luth. Thomas-Kirchengemeinde Kiel-Mettenhof:MAILTO:info@ki
 rche-mettenhof.de
LOCATION:Ev.-Luth. Thomas-Kirchengemeinde Kiel-Mettenhof\, Skandinaviendamm
  350\, Kiel
GEO:54.322174;10.051003
DESCRIPTION:\nDer Eine-Welt-Laden hat an diesem Sonntag vor und nach dem Go
 ttesdienst geöffnet.
BEGIN:VALARM
TRIGGER;VALUE=DURATION:P1D
ACTION:DISPLAY
DESCRIPTION:Gottesdienst
END:VALARM
END:VEVENT
END:VCALENDAR
