BEGIN:VCALENDAR
VERSION:2.0
PRODID:-//Sabre//Sabre VObject 4.1.6//EN
CALSCALE:GREGORIAN
BEGIN:VEVENT
UID:sabre-vobject-95001d3b-f04d-4b4d-a482-05d771bd3d6b
DTSTAMP:20260419T161857Z
SUMMARY:Gottesdienst
DTSTART;TZID=Europe/Berlin:20260412T103000
ORGANIZER;CN=Ev.-Luth. Apostel-Kirchengemeinde Kiel:MAILTO:kontakt@akg-kiel
 .de
LOCATION:Petruskirche Kiel-Wik\, Weimarer Straße 1\, Kiel
GEO:54.358555;10.137359
BEGIN:VALARM
TRIGGER;VALUE=DURATION:P1D
ACTION:DISPLAY
DESCRIPTION:Gottesdienst
END:VALARM
END:VEVENT
END:VCALENDAR
