BEGIN:VCALENDAR
VERSION:2.0
PRODID:-//Sabre//Sabre VObject 4.1.6//EN
CALSCALE:GREGORIAN
BEGIN:VEVENT
UID:sabre-vobject-4fb2cc92-6f43-4f37-8141-0d7e0f5b275b
DTSTAMP:20260419T161857Z
SUMMARY:Gottesdienst
DTSTART;TZID=Europe/Berlin:20260403T110000
ORGANIZER;CN=Ev.-Luth. Thomas-Kirchengemeinde Kiel-Mettenhof:MAILTO:info@ki
 rche-mettenhof.de
LOCATION:Ev.-Luth. Thomas-Kirchengemeinde Kiel-Mettenhof\, Skandinaviendamm
  350\, Kiel
GEO:54.322174;10.051003
DESCRIPTION:Karfreitag
BEGIN:VALARM
TRIGGER;VALUE=DURATION:P1D
ACTION:DISPLAY
DESCRIPTION:Gottesdienst
END:VALARM
END:VEVENT
END:VCALENDAR
