BEGIN:VCALENDAR
VERSION:2.0
PRODID:-//Sabre//Sabre VObject 4.1.6//EN
CALSCALE:GREGORIAN
BEGIN:VEVENT
UID:sabre-vobject-685bf7d0-6dd6-4e2f-9e47-7b3832624516
DTSTAMP:20260419T162615Z
SUMMARY:Frühgottesdienst auf dem Nordfriedhof
DTSTART;TZID=Europe/Berlin:20260405T060000
ORGANIZER;CN=Ev.-Luth. Apostel-Kirchengemeinde Kiel:MAILTO:kontakt@akg-kiel
 .de
LOCATION:Petruskirche Kiel-Wik\, Weimarer Straße 1\, Kiel
GEO:54.358555;10.137359
BEGIN:VALARM
TRIGGER;VALUE=DURATION:P1D
ACTION:DISPLAY
DESCRIPTION:Frühgottesdienst auf dem Nordfriedhof
END:VALARM
END:VEVENT
END:VCALENDAR
