BEGIN:VCALENDAR
VERSION:2.0
PRODID:-//Sabre//Sabre VObject 4.1.6//EN
CALSCALE:GREGORIAN
BEGIN:VEVENT
UID:sabre-vobject-9f5222f9-58b0-4963-95af-9407e5088f0a
DTSTAMP:20260419T162346Z
SUMMARY:Festgottesdienst zu Ostern
DTSTART;TZID=Europe/Berlin:20260405T100000
ORGANIZER;CN=Ev.-Luth. Claus-Harms-Kirchengemeinde Kiel:MAILTO:kirchenbuero
 @claus-harms.de
LOCATION:St. Gabriel Kirche\, Rendsburger Landstraße 389\, Kiel
GEO:54.30077;10.06608
DESCRIPTION:mit der Kantorei
BEGIN:VALARM
TRIGGER;VALUE=DURATION:P1D
ACTION:DISPLAY
DESCRIPTION:Festgottesdienst zu Ostern
END:VALARM
END:VEVENT
END:VCALENDAR
