BEGIN:VCALENDAR
VERSION:2.0
PRODID:-//Sabre//Sabre VObject 4.1.6//EN
CALSCALE:GREGORIAN
BEGIN:VEVENT
UID:sabre-vobject-cb8e618d-3729-45f1-a3b3-069dc54b76c9
DTSTAMP:20260419T163949Z
SUMMARY:Familienkirche zu Ostern mit anschließendem Ostereiersuchen nach d
 em GD
DTSTART;TZID=Europe/Berlin:20260406T113000
ORGANIZER;CN=Ev.-Luth. Paul-Gerhardt-Kirchengemeinde Kiel-Neumühlen-Dietri
 chsdorf:MAILTO:info@pgg-kiel.de
LOCATION:Paul-Gerhardt-Kirche\, Ivensring 9\, Kiel
GEO:54.3331828;10.1888434
BEGIN:VALARM
TRIGGER;VALUE=DURATION:P1D
ACTION:DISPLAY
DESCRIPTION:Familienkirche zu Ostern mit anschließendem Ostereiersuchen na
 ch dem GD
END:VALARM
END:VEVENT
END:VCALENDAR
