BEGIN:VCALENDAR
VERSION:2.0
PRODID:-//Sabre//Sabre VObject 4.1.6//EN
CALSCALE:GREGORIAN
BEGIN:VEVENT
UID:sabre-vobject-acb5b0b8-9895-445f-ba26-0e415418a555
DTSTAMP:20260419T162707Z
SUMMARY:Familiengottesdienst "Wer ist denn dieser Jesus?"
DTSTART;TZID=Europe/Berlin:20260426T100000
ORGANIZER;CN=Ev.-Luth. Friedensgemeinde Kiel:MAILTO:info@fg-kiel.de
LOCATION:Heilandskirche (Friedensgemeinde Kiel)\, Saarbrückenstraße 46\, 
 Kiel
GEO:54.313491;10.11149
DESCRIPTION:\nFamiliengottesdienst in der Heilandskirche um 10 UhrFamilieng
 ottesdienst am 26. April „Wer ist denn dieser Jesus?“Herzliche Einladu
 ng zu unseren Familiengottesdienst. Gemeinsam glauben\, singen\, beten und
  feiern – unsere Familiengottesdienste sind ein Ort für Groß und Klein
 . Alle Generationen sind herzlich willkommen. Die Gottesdienste sind kindg
 erecht gestaltet\, mit Liedern zum Mitsingen\, anschaulichen Geschichten u
 nd liturgischen sowie musikalischen Elementen\, die von Kindern gestaltet 
 werden.Im Anschluss gibt es die Möglichkeit zum Austausch bei Getränken 
 und Gebäck.Komm vorbei und sei dabei – wir freuen uns auf dich und euch
 !Pastorin Maria Paschen und Team
BEGIN:VALARM
TRIGGER;VALUE=DURATION:P1D
ACTION:DISPLAY
DESCRIPTION:Familiengottesdienst "Wer ist denn dieser Jesus?"
END:VALARM
END:VEVENT
END:VCALENDAR
