BEGIN:VCALENDAR
VERSION:2.0
PRODID:-//Sabre//Sabre VObject 4.1.6//EN
CALSCALE:GREGORIAN
BEGIN:VEVENT
UID:sabre-vobject-439f5837-133c-42d0-8efd-2e3fa1ee9de3
DTSTAMP:20260419T162248Z
SUMMARY:Familiengottesdienst
DTSTART;TZID=Europe/Berlin:20260406T110000
ORGANIZER;CN=Ev.-Luth. Bugenhagen-Kirchengemeinde Kiel-Ellerbek:MAILTO:buer
 o@bugenhagenkirche-kiel.de
LOCATION:Bugenhagenkirche Kiel-Ellerbek\, Lütjenburger Str. 7\, Kiel
GEO:54.31425;10.17279
DESCRIPTION:mit Frühstück und Ostereiersuche
BEGIN:VALARM
TRIGGER;VALUE=DURATION:P1D
ACTION:DISPLAY
DESCRIPTION:Familiengottesdienst
END:VALARM
END:VEVENT
END:VCALENDAR
