BEGIN:VCALENDAR
VERSION:2.0
PRODID:-//Sabre//Sabre VObject 4.1.6//EN
CALSCALE:GREGORIAN
BEGIN:VEVENT
UID:sabre-vobject-fe3e2dbf-9473-4056-888a-fb9375079e22
DTSTAMP:20260419T162248Z
SUMMARY:Familiengottesdienst
DTSTART;TZID=Europe/Berlin:20260406T100000
ORGANIZER;CN=Ev.-Luth. Kirchengemeinde Heiligengeist in Kiel:MAILTO:info@he
 iligengeist-kiel.de
LOCATION:Heiligengeist\, Holtenauer Str. 89\, Kiel
GEO:54.335579;10.132823
DESCRIPTION:Gottesdienst für Groß und Klein und Mittendrin\nFamiliengotte
 sdienst
BEGIN:VALARM
TRIGGER;VALUE=DURATION:P1D
ACTION:DISPLAY
DESCRIPTION:Familiengottesdienst
END:VALARM
END:VEVENT
END:VCALENDAR
