BEGIN:VCALENDAR
VERSION:2.0
PRODID:-//Sabre//Sabre VObject 4.1.6//EN
CALSCALE:GREGORIAN
BEGIN:VEVENT
UID:sabre-vobject-2fe873cf-b06a-4a1d-a783-ef67412f0b1c
DTSTAMP:20260419T162447Z
SUMMARY:Familienfrühstück
DTSTART;TZID=Europe/Berlin:20260406T093000
ORGANIZER;CN=Ev.-Luth. Paul-Gerhardt-Kirchengemeinde Kiel-Neumühlen-Dietri
 chsdorf:MAILTO:info@pgg-kiel.de
LOCATION:Paul-Gerhardt-Kirche\, Ivensring 9\, Kiel
GEO:54.3331828;10.1888434
BEGIN:VALARM
TRIGGER;VALUE=DURATION:P1D
ACTION:DISPLAY
DESCRIPTION:Familienfrühstück
END:VALARM
END:VEVENT
END:VCALENDAR
