BEGIN:VCALENDAR
VERSION:2.0
PRODID:-//Sabre//Sabre VObject 4.1.6//EN
CALSCALE:GREGORIAN
BEGIN:VEVENT
UID:sabre-vobject-482d8160-8961-49bd-b95c-538cb1e0b67f
DTSTAMP:20260419T162256Z
SUMMARY:Eritreischer Gottesdienst
DTSTART;TZID=Europe/Berlin:20260419T060000
DTEND;TZID=Europe/Berlin:20260419T130000
ORGANIZER;CN=Ev.-Luth. Emmaus-Kirchengemeinde Kiel:MAILTO:kirchenbuero@emma
 us-kiel.de
LOCATION:Emmaus-Kirchengemeinde\, Eduard-Adler-Straße 23\, Kiel
GEO:54.3465089;10.1284685
DESCRIPTION:Gottesdienst der Eritreisch-Orthodoxen Gemeinde\nGottesdienst d
 er Eritreisch-Orthodoxen Gemeinde
BEGIN:VALARM
TRIGGER;VALUE=DURATION:P1D
ACTION:DISPLAY
DESCRIPTION:Eritreischer Gottesdienst
END:VALARM
END:VEVENT
END:VCALENDAR
