BEGIN:VCALENDAR
VERSION:2.0
PRODID:-//Sabre//Sabre VObject 4.1.6//EN
CALSCALE:GREGORIAN
BEGIN:VEVENT
UID:sabre-vobject-fbe845ab-af9a-41e0-98b2-0b35ee5023e2
DTSTAMP:20260419T162121Z
SUMMARY:Entdeckerkirche - Mit Kopf\, Herz und Knete
DTSTART;TZID=Europe/Berlin:20260416T170000
ORGANIZER;CN=Ev.-Luth. Kirchengemeinde Heiligengeist in Kiel:MAILTO:info@he
 iligengeist-kiel.de
LOCATION:Ev.-Luth. St. Ansgarkirche in Kiel\, Holtenauer Straße 89\, Kiel
GEO:54.335568;10.132849
DESCRIPTION:Entdeckerkirche für Kinder von 3-8 Jahren mit Vertrauensperson
 (en)\n16 Uhr Ankommen\nab 16:15 Uhr entdecken\num 17 Uhr Andacht\nspielen 
 - erzählen - basteln - malen - in Gemeinschaft Spaß haben - singen - nac
 h Gott fragen
BEGIN:VALARM
TRIGGER;VALUE=DURATION:P1D
ACTION:DISPLAY
DESCRIPTION:Entdeckerkirche - Mit Kopf\, Herz und Knete
END:VALARM
END:VEVENT
END:VCALENDAR
