BEGIN:VCALENDAR
VERSION:2.0
PRODID:-//Sabre//Sabre VObject 4.1.6//EN
CALSCALE:GREGORIAN
BEGIN:VEVENT
UID:sabre-vobject-944622fe-23f7-4b92-969a-ac6aef77e6c9
DTSTAMP:20260419T161646Z
SUMMARY:Die Halbe Stunde
DTSTART;TZID=Europe/Berlin:20260422T170000
DTEND;TZID=Europe/Berlin:20260422T173000
ORGANIZER;CN=Offene Kirche St. Nikolai in Kiel:MAILTO:no-reply@melsdorf.de
LOCATION:Offene Kirche St. Nikolai in Kiel\, Alter Markt\, Kiel
GEO:54.323221;10.138686
DESCRIPTION:Vielfältige Konzertreihe von klassischer Musik aller Epochen.\
 nWöchentlich wechselnde Künstler*innen und wechselndes Programm. Eintrit
 t frei.\nWindklangweltenWerke von F. Mendelssohn\, Elgar\, A. Gärtner u. 
 a.
BEGIN:VALARM
TRIGGER;VALUE=DURATION:P1D
ACTION:DISPLAY
DESCRIPTION:Die Halbe Stunde
END:VALARM
END:VEVENT
END:VCALENDAR
