BEGIN:VCALENDAR
VERSION:2.0
PRODID:-//Sabre//Sabre VObject 4.1.6//EN
CALSCALE:GREGORIAN
BEGIN:VEVENT
UID:sabre-vobject-398090e1-eeee-4bcd-83d3-f6411d4488f8
DTSTAMP:20260419T162741Z
SUMMARY:Die Halbe Stunde
DTSTART;TZID=Europe/Berlin:20260415T170000
DTEND;TZID=Europe/Berlin:20260415T173000
ORGANIZER;CN=Offene Kirche St. Nikolai in Kiel:MAILTO:no-reply@melsdorf.de
LOCATION:Offene Kirche St. Nikolai in Kiel\, Alter Markt\, Kiel
GEO:54.323221;10.138686
DESCRIPTION:Vielfältige Konzertreihe von klassischer Musik aller Epochen.\
 nWöchentlich wechselnde Künstler*innen und wechselndes Programm. Eintrit
 t frei.\nMalte Viefs KammerWerke von Malte Vief
BEGIN:VALARM
TRIGGER;VALUE=DURATION:P1D
ACTION:DISPLAY
DESCRIPTION:Die Halbe Stunde
END:VALARM
END:VEVENT
END:VCALENDAR
