BEGIN:VCALENDAR
VERSION:2.0
PRODID:-//Sabre//Sabre VObject 4.1.6//EN
CALSCALE:GREGORIAN
BEGIN:VEVENT
UID:sabre-vobject-83723257-7f7d-4806-b219-776c1a5b75b6
DTSTAMP:20260419T161645Z
SUMMARY:Die Halbe Stunde
DTSTART;TZID=Europe/Berlin:20260401T170000
DTEND;TZID=Europe/Berlin:20260401T173000
ORGANIZER;CN=Offene Kirche St. Nikolai in Kiel:MAILTO:no-reply@melsdorf.de
LOCATION:Offene Kirche St. Nikolai in Kiel\, Alter Markt\, Kiel
GEO:54.323221;10.138686
DESCRIPTION:Vielfältige Konzertreihe von klassischer Musik aller Epochen.\
 nWöchentlich wechselnde Künstler*innen und wechselndes Programm. Eintrit
 t frei.\nAch wie liegt die Stadt so verlassenWerke zur Passion von Rosenm
 üller\, J.S. Bach u.a.
BEGIN:VALARM
TRIGGER;VALUE=DURATION:P1D
ACTION:DISPLAY
DESCRIPTION:Die Halbe Stunde
END:VALARM
END:VEVENT
END:VCALENDAR
