BEGIN:VCALENDAR
VERSION:2.0
PRODID:-//Sabre//Sabre VObject 4.1.6//EN
CALSCALE:GREGORIAN
BEGIN:VEVENT
UID:sabre-vobject-fef627ce-f096-4888-b250-fec00d8636ca
DTSTAMP:20260419T162419Z
SUMMARY:Der Original Kieler Poetry Slam!
DTSTART;TZID=Europe/Berlin:20260409T193000
DTEND;TZID=Europe/Berlin:20260409T213000
ORGANIZER;CN="Landeshauptstadt Kiel, Amt für Kultur und Weiterbildung":MAI
 LTO:veranstaltungen@kiel.de
LOCATION:KulturForum Kiel\, Andreas-Gayk-Straße 31\, Kiel (Mitte)
GEO:54.3192084;10.1357235
DESCRIPTION:Der älteste Poetry Slam Schleswig-Holsteins.\nDer älteste Poe
 try Slam Schleswig-Holsteins. \nAuch 2025 präsentiert assemble ART jeden 
 Monat wieder norddeutsche Hochkaräter und die Stars der deutschsprachigen
  und internationalen Slam-Szene.\nModeration: Björn Högsdal\n\nVeranstal
 ter: assemble ART
BEGIN:VALARM
TRIGGER;VALUE=DURATION:P1D
ACTION:DISPLAY
DESCRIPTION:Der Original Kieler Poetry Slam!
END:VALARM
END:VEVENT
END:VCALENDAR
