BEGIN:VCALENDAR
VERSION:2.0
PRODID:-//Sabre//Sabre VObject 4.1.6//EN
CALSCALE:GREGORIAN
BEGIN:VEVENT
UID:sabre-vobject-d84beaa8-5753-431b-ac79-da05e7b45664
DTSTAMP:20260419T162122Z
SUMMARY:Chorkonzert "Gloria"
DTSTART;TZID=Europe/Berlin:20260420T190000
ORGANIZER;CN=Offene Kirche St. Nikolai in Kiel:MAILTO:no-reply@melsdorf.de
LOCATION:Offene Kirche St. Nikolai in Kiel\, Alter Markt\, Kiel
GEO:54.323221;10.138686
DESCRIPTION:Werke von Vivaldi\, Stanford\, Britten\, Chilcott\; Jugendchor 
 des ebg\, BarlachChor und ELFEN-Chor\; Volkmar Zehner\, Orgel\; Wulf-Henni
 ng Steffen\, Dirigent
BEGIN:VALARM
TRIGGER;VALUE=DURATION:P1D
ACTION:DISPLAY
DESCRIPTION:Chorkonzert "Gloria"
END:VALARM
END:VEVENT
END:VCALENDAR
