BEGIN:VCALENDAR
VERSION:2.0
PRODID:-//Sabre//Sabre VObject 4.1.6//EN
CALSCALE:GREGORIAN
BEGIN:VEVENT
UID:sabre-vobject-e05f905a-5b8a-4993-95ec-136ceaa868d7
DTSTAMP:20260419T161223Z
SUMMARY:Bingo
DTSTART;TZID=Europe/Berlin:20260425T153000
ORGANIZER;CN=Ev.-Luth. Friedensgemeinde Kiel:MAILTO:info@fg-kiel.de
LOCATION:Gemeindesaal Vicelin\, Paul-Fleming-Str. 4\, Kiel
GEO:54.320065;10.1161
DESCRIPTION:\nBingoWir wollen wieder Bingo spielen!Dieses Mal am Sonnabend\
 , dem 25. April\, von 15.30 bis 18 Uhr im Gemeindesaal Vicelin (Paul-Flemi
 ng-Straße 4).Wir beginnen mit einer Kaffeetafel und dann geht es los! es 
 gibt viele tolle Preise zu gewinnen.Wir möchten uns jetzt schon ganz herz
 lich bei den Kieler Firmen bedanken\, die Gewinne für uns gespendet haben
 .Wir würden uns über Kuchenspenden sehr freuen\, bitten aber darum\, die
 se vorher im Büro anzumelden.Max Dräger
BEGIN:VALARM
TRIGGER;VALUE=DURATION:P1D
ACTION:DISPLAY
DESCRIPTION:Bingo
END:VALARM
END:VEVENT
END:VCALENDAR
